BEGIN:VCALENDAR
VERSION:2.0
PRODID:-//Talks.cam//talks.cam.ac.uk//
X-WR-CALNAME:Talks.cam
BEGIN:VEVENT
SUMMARY:Seeing sanity among insanity - Ven. Narindo Bhikkhu\, Amaravati Bu
 ddhist Monastery 
DTSTART:20220625T084500Z
DTEND:20220625T094500Z
UID:TALK176036@talks.cam.ac.uk
CONTACT:Himantha Cooray
DESCRIPTION:Dealing with the world is dealing with through our minds. The 
 talk will discuss how events in the world affect us and how we can see cal
 mness and peace even among the most challenging situations. The world can 
 be chaotic\, but at the same time at peace.\n\nThis talk is part of the Ve
 sak Celebration organized by Cambridge University Buddhist Society\, to ce
 lebrate the Buddha's birth\, enlightenment and Parinibbana.\n\nThe event p
 rogramme is as follows. You are welcome to take part in the whole event or
  just come for the talk.\n\n  9:00 - Welcome\, introduction\, short chanti
 ng and meditation\n  9:45 - Dhamma Talk by Ven. Narindo Bhikkhu on "Seeing
  sanity among insanity"\n  10:45 - Q&A and Discussion\n  11:30 - Meal offe
 ring to the venerable monks and lunch for participants\n  12:00 - End\n\nT
 his event is free\, and all are welcome!.
LOCATION:Cambridge Buddhist Temple\, 214\, Cromwell Road\, Cambridge CB1 3
 EQ
END:VEVENT
END:VCALENDAR
