BEGIN:VCALENDAR
VERSION:2.0
PRODID:-//Talks.cam//talks.cam.ac.uk//
X-WR-CALNAME:Talks.cam
BEGIN:VEVENT
SUMMARY:Dyslexia\, Rhythm\, Language and the Developing Brain - Prof. Usha
  Goswami\, Department of Psychology\, University of Cambridge
DTSTART:20221031T193000Z
DTEND:20221031T210000Z
UID:TALK176384@talks.cam.ac.uk
CONTACT:John Cook
DESCRIPTION:Recent insights from auditory neuroscience provide a new persp
 ective on how the brain encodes speech. Using these recent insights\, I wi
 ll provide an overview of key factors underpinning individual differences 
 in children’s development of language and phonology\, providing a contex
 t for exploring atypical reading development (dyslexia). Children with dys
 lexia are relatively insensitive to acoustic cues related to speech rhythm
  patterns. This lack of rhythmic sensitivity is related to the atypical ne
 ural encoding of rhythm patterns in speech by the brain. I will describe o
 ur current research-based interventions that aim to ameliorate these rhyth
 mic difficulties. More details at:\nhttps://www.csar.org.uk/lectures/2022-
 2023/tbc_20221031/\n\nRegister to receive the Zoom link for free online vi
 ewing at:\nhttps://tinyurl.com/2xk8rv8t  . This link also tells you how to
  book a ticket for in-person attendance.
LOCATION:Location: Wolfson Lecture Theatre\, Churchill College\, and Zoom
END:VEVENT
END:VCALENDAR
