BEGIN:VCALENDAR
VERSION:2.0
PRODID:-//Talks.cam//talks.cam.ac.uk//
X-WR-CALNAME:Talks.cam
BEGIN:VEVENT
SUMMARY:Light\, sight and the wonders of the eye…. with a focus on the l
 ens - Prof. Barbara Pierscionek\, Medical Technology Research Centre\, Ang
 lia Ruskin University
DTSTART:20230515T183000Z
DTEND:20230515T200000Z
UID:TALK176396@talks.cam.ac.uk
CONTACT:John Cook
DESCRIPTION:This lecture will describe vision starting from the perspectiv
 e of the artist and moving to the fascinating science that underpins how t
 he eye captures light. The changes in the lens as it develops and ages as 
 well as the effects of potential novel anti-cataract medications will be s
 hown. These have been measured using advanced methods at the SPring-8 sync
 hrotron and have provided insights into the lens that had not been possibl
 e with previous techniques. Aspects of the underlying links between struct
 ure and function of the lens remain a mystery and these will also be prese
 nted.\n\nMore details\, including the Eventbrite link to book  attendance 
 or Zoom\, are on the "CSAR website":https://www.csar.org.uk/lectures/2022-
 2023/tbc_20230515/ .
LOCATION:Location: Wolfson Lecture Theatre\, Churchill College\, and Zoom
END:VEVENT
END:VCALENDAR
