BEGIN:VCALENDAR
VERSION:2.0
PRODID:-//Talks.cam//talks.cam.ac.uk//
X-WR-CALNAME:Talks.cam
BEGIN:VEVENT
SUMMARY:Tame automorphism groups of polynomial rings with property (T) and
  infinitely many alternating group quotients - Martin Kassabov (Cornell Un
 iversity)
DTSTART:20220728T104000Z
DTEND:20220728T113000Z
UID:TALK176576@talks.cam.ac.uk
DESCRIPTION:
LOCATION:Seminar Room 1\, Newton Institute
END:VEVENT
END:VCALENDAR
