BEGIN:VCALENDAR
VERSION:2.0
PRODID:-//Talks.cam//talks.cam.ac.uk//
X-WR-CALNAME:Talks.cam
BEGIN:VEVENT
SUMMARY:An Introduction to Data and Commercialisation - Cambridge Enterpri
 se: Dr Terry Parlett\, Dr Emma Salgård Cunha and Dr Sian Fogden
DTSTART:20220713T110000Z
DTEND:20220713T123000Z
UID:TALK176597@talks.cam.ac.uk
CONTACT:103726
DESCRIPTION:Hosted by Cambridge Enterprise and Cambridge Centre for Data-D
 riven Discovery (C2D3).\n\nThere are two parts to this webinar:\n\nPart 1:
  'Future Proofing your Data Project’\n\nBuilding a foundation for dissem
 ination and impact into your research project can feel overwhelming when y
 ou’re dealing in data. We look at some practical steps you can take to m
 anage data when you have commercialisation in mind\, and talk about when a
 nd how to find support from across the University.\n\n*Managing data with 
 future commercialisation in mind\n*Basics of ‘protecting data’ and IP 
 and an introduction to commercial licensing\n*Using third party and open s
 ource materials\n*Do’s and don’ts with health and personal data\n*When
  things go wrong!\n\nPart 2: ‘Creating Impact through Data Commercialisa
 tion’\n\nWe’ll introduce some case studies of data commercialisation f
 rom Cambridge and beyond. Data commercialisation uses diverse models inclu
 ding consultancy\, licensing and company creation. How can you devise a pa
 thway to maximise your impact and create financial sustainability for your
  project beyond grant funding?\n\nSpeakers will include:\n\nDr Terry Parle
 tt\, Dr Emma Salgård Cunha and Dr Sian Fogden\n\nWebinar details:\n\nDate
 : Wednesday 13th July 2022\nTime: 12:00 - 13:30\nPlatform: Microsoft Teams
LOCATION:Online
END:VEVENT
END:VCALENDAR
