BEGIN:VCALENDAR
VERSION:2.0
PRODID:-//Talks.cam//talks.cam.ac.uk//
X-WR-CALNAME:Talks.cam
BEGIN:VEVENT
SUMMARY:Integrating Genomics and Multi-omics at Population Scale for Disea
 se Insights - Adam Butterworth (University of Cambridge)
DTSTART:20220726T151500Z
DTEND:20220726T154500Z
UID:TALK176681@talks.cam.ac.uk
DESCRIPTION:
LOCATION:Centre for Mathematical Sciences
END:VEVENT
END:VCALENDAR
