BEGIN:VCALENDAR
VERSION:2.0
PRODID:-//Talks.cam//talks.cam.ac.uk//
X-WR-CALNAME:Talks.cam
BEGIN:VEVENT
SUMMARY:Shifting landscapes of the medieval world  - Speaker to be confirm
 ed
DTSTART:20220913T120000Z
DTEND:20220913T170000Z
UID:TALK176774@talks.cam.ac.uk
CONTACT:49145
DESCRIPTION:Our conference focuses on reading medieval landscapes in their
  multiple manifestations. We will explore themes emerging in the series of
  preceding seminars\, as well as broadening the discussion to include aspe
 cts of other dimensions\, spatial\, temporal and theoretical.\n
LOCATION: G-R06/07\, Faculty of English
END:VEVENT
END:VCALENDAR
