BEGIN:VCALENDAR
VERSION:2.0
PRODID:-//Talks.cam//talks.cam.ac.uk//
X-WR-CALNAME:Talks.cam
BEGIN:VEVENT
SUMMARY:Verified Learning autonomy - Susmit Jha - 
DTSTART:20220727T163000Z
DTEND:20220727T170000Z
UID:TALK177044@talks.cam.ac.uk
DESCRIPTION:
LOCATION:Discussion Room\, Newton Institute
END:VEVENT
END:VCALENDAR
