BEGIN:VCALENDAR
VERSION:2.0
PRODID:-//Talks.cam//talks.cam.ac.uk//
X-WR-CALNAME:Talks.cam
BEGIN:VEVENT
SUMMARY:The History of Liquid Metal Batteries - Donald  Sadoway (Massachus
 etts Institute of Technology)
DTSTART:20221115T131000Z
DTEND:20221115T135000Z
UID:TALK177089@talks.cam.ac.uk
DESCRIPTION:
LOCATION:Seminar Room 1\, Newton Institute
END:VEVENT
END:VCALENDAR
