BEGIN:VCALENDAR
VERSION:2.0
PRODID:-//Talks.cam//talks.cam.ac.uk//
X-WR-CALNAME:Talks.cam
BEGIN:VEVENT
SUMMARY:Transition to Turbulence in a Liquid Metal Battery - Peter Davidso
 n (University of Cambridge)
DTSTART:20221115T151500Z
DTEND:20221115T155000Z
UID:TALK177098@talks.cam.ac.uk
DESCRIPTION:
LOCATION:Seminar Room 1\, Newton Institute
END:VEVENT
END:VCALENDAR
