BEGIN:VCALENDAR
VERSION:2.0
PRODID:-//Talks.cam//talks.cam.ac.uk//
X-WR-CALNAME:Talks.cam
BEGIN:VEVENT
SUMMARY:Transport Phenomena in Liquid Metal Batteries - Tom  Weier  (Helmh
 oltz Zentrum Dresden Rossendorf (HZDR))
DTSTART:20221116T113500Z
DTEND:20221116T123000Z
UID:TALK177107@talks.cam.ac.uk
DESCRIPTION:
LOCATION:Seminar Room 1\, Newton Institute
END:VEVENT
END:VCALENDAR
