BEGIN:VCALENDAR
VERSION:2.0
PRODID:-//Talks.cam//talks.cam.ac.uk//
X-WR-CALNAME:Talks.cam
BEGIN:VEVENT
SUMMARY:The reduced Ostrovsky equation: integrability\, breaking and orbit
 al stability - Ted Johnson (University College London)
DTSTART:20220909T103000Z
DTEND:20220909T113000Z
UID:TALK177869@talks.cam.ac.uk
DESCRIPTION:This talk will show that provided the curvature of initial con
 ditions is sufficiently small ( 3u'' < 1 ) then the reduced Ostrovsky equa
 tion maps one-one to an integrable equation. For larger curvatures the sol
 ution breaks at finite time.&nbsp\; It will also be shown that periodic so
 lutions are orbitally stable.
LOCATION:Seminar Room 1\, Newton Institute
END:VEVENT
END:VCALENDAR
