BEGIN:VCALENDAR
VERSION:2.0
PRODID:-//Talks.cam//talks.cam.ac.uk//
X-WR-CALNAME:Talks.cam
BEGIN:VEVENT
SUMMARY:Broad community development of the Unified Forecast System\, using
  the WAVEWATCH III™ wind model as an example - Henrik Tolman (National O
 ceanic and Atmosphere Administration)
DTSTART:20221024T095500Z
DTEND:20221024T102500Z
UID:TALK177938@talks.cam.ac.uk
DESCRIPTION:
LOCATION:Seminar Room 1\, Newton Institute
END:VEVENT
END:VCALENDAR
