BEGIN:VCALENDAR
VERSION:2.0
PRODID:-//Talks.cam//talks.cam.ac.uk//
X-WR-CALNAME:Talks.cam
BEGIN:VEVENT
SUMMARY:Big Data in Small Packages: Material Simulation on Quantum Compute
 rs - Joel Klassen (Phasecraft)
DTSTART:20221123T111500Z
DTEND:20221123T120000Z
UID:TALK177989@talks.cam.ac.uk
DESCRIPTION:
LOCATION:Seminar Room 1\, Newton Institute
END:VEVENT
END:VCALENDAR
