BEGIN:VCALENDAR
VERSION:2.0
PRODID:-//Talks.cam//talks.cam.ac.uk//
X-WR-CALNAME:Talks.cam
BEGIN:VEVENT
SUMMARY:Contributed Talk: Exploring the dynamic metabolic strategies of a 
 gut bacterial consortium - Daniel Garza (KU Leuven)
DTSTART:20221011T105500Z
DTEND:20221011T111500Z
UID:TALK179330@talks.cam.ac.uk
DESCRIPTION:
LOCATION:Seminar Room 1\, Newton Institute
END:VEVENT
END:VCALENDAR
