BEGIN:VCALENDAR
VERSION:2.0
PRODID:-//Talks.cam//talks.cam.ac.uk//
X-WR-CALNAME:Talks.cam
BEGIN:VEVENT
SUMMARY:The role of contact-dependent antagonism in marine communities - A
 strid Stubbusch (ETH Zürich)
DTSTART:20221011T155000Z
DTEND:20221011T161000Z
UID:TALK179345@talks.cam.ac.uk
DESCRIPTION:
LOCATION:Seminar Room 1\, Newton Institute
END:VEVENT
END:VCALENDAR
