BEGIN:VCALENDAR
VERSION:2.0
PRODID:-//Talks.cam//talks.cam.ac.uk//
X-WR-CALNAME:Talks.cam
BEGIN:VEVENT
SUMMARY:Are primates suitable pets? - Graziella Iossa\, University of Bris
 tol
DTSTART:20090526T153000Z
DTEND:20090526T170000Z
UID:TALK18006@talks.cam.ac.uk
CONTACT:Anthony Podberscek
DESCRIPTION:Abstract not available
LOCATION:Centre for Animal Welfare & Anthrozoology Seminar Room\, Veterina
 ry Medicine\, Department of
END:VEVENT
END:VCALENDAR
