BEGIN:VCALENDAR
VERSION:2.0
PRODID:-//Talks.cam//talks.cam.ac.uk//
X-WR-CALNAME:Talks.cam
BEGIN:VEVENT
SUMMARY:Cambridge Consultants - Cambridge Consultants
DTSTART:20090506T200000Z
DTEND:20090506T210000Z
UID:TALK18024@talks.cam.ac.uk
CONTACT:Hannah Arnold
DESCRIPTION:Abstract not available
LOCATION:TBC
END:VEVENT
END:VCALENDAR
