BEGIN:VCALENDAR
VERSION:2.0
PRODID:-//Talks.cam//talks.cam.ac.uk//
X-WR-CALNAME:Talks.cam
BEGIN:VEVENT
SUMMARY:Selection of the Initial Conditions of the Universe from the Multi
 verse -  Laura Mersini (North Carolina)
DTSTART:20090504T120000Z
DTEND:20090504T130000Z
UID:TALK18043@talks.cam.ac.uk
CONTACT:David Mulryne
DESCRIPTION:Abstract not available
LOCATION:Potter Room\,  CMS\, Pav.B\, First Floor Common Room (B1.19)
END:VEVENT
END:VCALENDAR
