BEGIN:VCALENDAR
VERSION:2.0
PRODID:-//Talks.cam//talks.cam.ac.uk//
X-WR-CALNAME:Talks.cam
BEGIN:VEVENT
SUMMARY:“Quantum Tops: probing the fundamentals of nature with its heavi
 est particle”. - Dr James Howarth\, University of Glasgow
DTSTART:20220928T094000Z
DTEND:20220928T102000Z
UID:TALK180473@talks.cam.ac.uk
CONTACT:Leona Hope-Coles
DESCRIPTION:Abstract not available
LOCATION:Cavendish Laboratory\, Pippard Lecture Theatre & TEAMS
END:VEVENT
END:VCALENDAR
