BEGIN:VCALENDAR
VERSION:2.0
PRODID:-//Talks.cam//talks.cam.ac.uk//
X-WR-CALNAME:Talks.cam
BEGIN:VEVENT
SUMMARY:Taking a Shot at neuronal growth in Drosophila - Andreas Prokop - 
 Wellcome Trust Centre for Cell-Matrix Research\, University of Manchester
DTSTART:20090515T121500Z
DTEND:20090515T125500Z
UID:TALK18058@talks.cam.ac.uk
CONTACT:David Rivers
DESCRIPTION:Abstract not available
LOCATION:Biffen Lecture Theatre\, Genetics\, Department of
END:VEVENT
END:VCALENDAR
