BEGIN:VCALENDAR
VERSION:2.0
PRODID:-//Talks.cam//talks.cam.ac.uk//
X-WR-CALNAME:Talks.cam
BEGIN:VEVENT
SUMMARY:Measuring security of supply  &  Household Income and Energy Spend
 ing: The case of Great Britain 1991-2007 - Christian Winzer (EPRG) & Helen
 a Meier (University of Hamburg)
DTSTART:20090427T113000Z
DTEND:20090427T130000Z
UID:TALK18092@talks.cam.ac.uk
CONTACT:Madie Armstrong
DESCRIPTION:Abstract not available
LOCATION:W2.01\, Judge Business School.
END:VEVENT
END:VCALENDAR
