BEGIN:VCALENDAR
VERSION:2.0
PRODID:-//Talks.cam//talks.cam.ac.uk//
X-WR-CALNAME:Talks.cam
BEGIN:VEVENT
SUMMARY:The biology of 'atypical' chemokine receptors - Rob Nibbs\, Divisi
 on of Immunology\, Infection and Inflammation\, Glasgow Biomedical Researc
 h Centre
DTSTART:20090515T120000Z
DTEND:20090515T130000Z
UID:TALK18172@talks.cam.ac.uk
CONTACT:Denise Schofield
DESCRIPTION:Abstract not available
LOCATION:Sackler Lecture Theatre (Level 7)\, Cambridge Institute for Medic
 al Research
END:VEVENT
END:VCALENDAR
