BEGIN:VCALENDAR
VERSION:2.0
PRODID:-//Talks.cam//talks.cam.ac.uk//
X-WR-CALNAME:Talks.cam
BEGIN:VEVENT
SUMMARY:SLP-76 is mandatory for TCR-mediated inside-out-signaling\, but di
 spensable for CXCR4-mediated LFA-1 adhesion and migration of T-cells - Ste
 fanie Kliche
DTSTART:20090522T120000Z
DTEND:20090522T130000Z
UID:TALK18173@talks.cam.ac.uk
CONTACT:Denise Schofield
DESCRIPTION:Abstract not available
LOCATION:Sackler Lecture Theatre (Level 7)\, Cambridge Institute for Medic
 al Research
END:VEVENT
END:VCALENDAR
