BEGIN:VCALENDAR
VERSION:2.0
PRODID:-//Talks.cam//talks.cam.ac.uk//
X-WR-CALNAME:Talks.cam
BEGIN:VEVENT
SUMMARY:Conducting Systematic Literature Reviews - Phillip Woodall
DTSTART:20090424T130000Z
DTEND:20090424T140000Z
UID:TALK18193@talks.cam.ac.uk
CONTACT:Alexandra Brintrup
DESCRIPTION:A Systematic Literature Review (SLR) is a structured and audit
 able method used to obtain\, extract and synthesise information relevant t
 o a particular research question. Each stage in the SLR process is documen
 ted and conducted in a systematic manner with the aim of presenting a fair
  evaluation of a research topic by using a trustworthy\, rigorous and audi
 table methodology [1].\n\nThis talk describes the SLR methodology\, the st
 ages required to conduct a SLR\, and past experiences/lessons learnt after
  conducting a SLR as part of a Ph.D. research project.\n\n\nReferences\n\n
 1. Kitchenham\, B. Procedures for Undertaking Systematic Reviews. Technica
 l Report (TR/SE-0401)\, Keele University\, Keele (2004).\n\n\n
LOCATION:Seminar A\, Institute for Manufacturing\, 16 Mill Lane\, Cambridg
 e
END:VEVENT
END:VCALENDAR
