BEGIN:VCALENDAR
VERSION:2.0
PRODID:-//Talks.cam//talks.cam.ac.uk//
X-WR-CALNAME:Talks.cam
BEGIN:VEVENT
SUMMARY:Cell biology of hepatitis C virus replication - Dr Benno Wölk\, D
 epartment of Virology\, Hannover Medical School\, Germany
DTSTART:20090611T110000Z
DTEND:20090611T120000Z
UID:TALK18313@talks.cam.ac.uk
CONTACT:Dr Colin Crump
DESCRIPTION:Abstract not available
LOCATION:Sackler Lecture Theatre\, Level 7\, CIMR\, Addenbrooke’s Hospit
 al
END:VEVENT
END:VCALENDAR
