BEGIN:VCALENDAR
VERSION:2.0
PRODID:-//Talks.cam//talks.cam.ac.uk//
X-WR-CALNAME:Talks.cam
BEGIN:VEVENT
SUMMARY:The Venerable Mina Smallman in conversation with Shahida Rahman - 
 Mina Smallman and Shahida Rahman
DTSTART:20221114T173000Z
DTEND:20221114T190000Z
UID:TALK184064@talks.cam.ac.uk
CONTACT:Louise Ovens
DESCRIPTION:Our Visiting Fellow The Venerable Mina Smallman was an Archdea
 con in the Church of England. The writer Shahida Rahman is the only female
  trustee of Cambridge Mosque. Two remarkable leading women in the UK’s r
 eligious life exchange experiences.\n\nTogether they will discuss life as 
 a female religious leader.\n\nT﻿he event is free but booking in advance 
 required.\n\nhttps://www.eventbrite.co.uk/e/the-venerable-mina-smallman-in
 -conversation-with-shahida-rahman-tickets-400610586047\n
LOCATION:Murray Edwards College
END:VEVENT
END:VCALENDAR
