BEGIN:VCALENDAR
VERSION:2.0
PRODID:-//Talks.cam//talks.cam.ac.uk//
X-WR-CALNAME:Talks.cam
BEGIN:VEVENT
SUMMARY:What is the Point of Exchanging Reasons? - Rowan Cruft (University
  of Stirling)
DTSTART:20230124T153000Z
DTEND:20230124T155500Z
UID:TALK185036@talks.cam.ac.uk
DESCRIPTION:
LOCATION:Seminar Room 1\, Newton Institute
END:VEVENT
END:VCALENDAR
