BEGIN:VCALENDAR
VERSION:2.0
PRODID:-//Talks.cam//talks.cam.ac.uk//
X-WR-CALNAME:Talks.cam
BEGIN:VEVENT
SUMMARY:The solutions of Painlevé equations and Fredholm determinants: a 
 Riemann-Hilbert approach - Harini  Desiraju (University of Sydney)
DTSTART:20221102T100000Z
DTEND:20221102T105000Z
UID:TALK185207@talks.cam.ac.uk
DESCRIPTION:In this talk\, I will review some recent techniques that enabl
 e Fredholm determinant representation of Painlev&eacute\; tau-functions. T
 he&nbsp\;solutions of Painlev&eacute\; equations are typically logarithmic
  derivatives of the tau-functions. I will detail the case of the Painlev&e
 acute\; II tau-function (associated to the 2 parameter family of solutions
 )\, which can be written as a Fredholm determinant of an integrable (IIKS)
  kernel.\n&nbsp\;
LOCATION:Seminar Room 1\, Newton Institute
END:VEVENT
END:VCALENDAR
