BEGIN:VCALENDAR
VERSION:2.0
PRODID:-//Talks.cam//talks.cam.ac.uk//
X-WR-CALNAME:Talks.cam
BEGIN:VEVENT
SUMMARY:Challenges in interfacial selection problems with exponential asym
 ptotics - Cecilie Andersen (University of Bath)
DTSTART:20221102T145000Z
DTEND:20221102T152000Z
UID:TALK185216@talks.cam.ac.uk
DESCRIPTION:
LOCATION:Seminar Room 1\, Newton Institute
END:VEVENT
END:VCALENDAR
