BEGIN:VCALENDAR
VERSION:2.0
PRODID:-//Talks.cam//talks.cam.ac.uk//
X-WR-CALNAME:Talks.cam
BEGIN:VEVENT
SUMMARY:Late terms of a differential equation and singulants for multi-lev
 el asymptotics - Fatih Say (Ordu University)
DTSTART:20221102T155000Z
DTEND:20221102T162000Z
UID:TALK185219@talks.cam.ac.uk
DESCRIPTION:This talk presents a relation between the pre-factor function 
 of a first-order general differential equation and its singulants and addr
 esses the recurrence relation of singulants using multi-level asymptotic. 
 This is joint work with J. R. King and P. C. Matthews.
LOCATION:Seminar Room 1\, Newton Institute
END:VEVENT
END:VCALENDAR
