BEGIN:VCALENDAR
VERSION:2.0
PRODID:-//Talks.cam//talks.cam.ac.uk//
X-WR-CALNAME:Talks.cam
BEGIN:VEVENT
SUMMARY:Physics of Living Matter 4 (day2) - see abstract for detials
DTSTART:20090923T080000Z
DTEND:20090923T170000Z
UID:TALK18833@talks.cam.ac.uk
CONTACT:Duncan Simpson
DESCRIPTION:Wednesday 23rd Sept\nSession 2. *Dynamical assemblies of livin
 g matter* Chair: David Klenerman \n\n9. 00 Karen Lipkow (Systems Biology\,
  Cambridge) \n*Integrating cellular architecture and signalling*\n\n9.30 D
 arren Gilmour (EMBL\, Heidelberg) \n*Shaping organs through antagonistic m
 echanical interactions*\n\n10.00 Thomas Gregor (Department of Physics\, Pr
 inceton) \n*Transition to collective behaviour in eukaryotic cell populati
 ons*\n\n10.30 Coffee \n\nChair: Pietro Cicuta\n\n11.00 Ewa Paluch (MPI-CBG
 \, Dresden) \n*Mechanics and regulation of the actin cortex: insights into
  how cells control their shape*\n\n11.30 Daniel St Johnston (Gurdon Instit
 ute\, Cambridge) \n*Dynamics of mRNA localisation in the Drosophila oocyte
 *\n\n12.00 Masanori Mishima (Gurdon Institute\, Cambridge)\n*How does clus
 tering of motor proteins contribute to cell division?*\n\n12.30 Ben Fabry 
 (Biophysics\, Erlangen)\n*Biomechanics of cancer cell invasion*\n \n1300 
 – LUNCH \n\nSession 3 *Organisation & function of biological networks* C
 hair: Steve Oliver\n\n14.30 - Glenn Vinnicombe (Department of Engineering\
 , Cambridge)\n*Noise reduction and information transfer in cells*\n\n1500 
 - *Microsoft Research Lecture:*\nHamid Bolouri (Systems Biology\, Caltech)
  \n*Prediction of developmental transcriptional regulatory networks from e
 pigenetic data*\n\n1530 *Bragg Lecture: *\nUri Alon (Weizmann Institute\, 
 Israel)\n*Design Principles of Biological Circuits*\n\n16:30 Close and Cof
 fee
LOCATION:MR2\, Centre for Mathematical Sciences\, Wilberforce Road\, Cambr
 idge
END:VEVENT
END:VCALENDAR
