BEGIN:VCALENDAR
VERSION:2.0
PRODID:-//Talks.cam//talks.cam.ac.uk//
X-WR-CALNAME:Talks.cam
BEGIN:VEVENT
SUMMARY:"Living complexity: evolution in the XXI century " - James A Shapi
 ro (Department of Biochemistry and Molecular Biology The University of Chi
 cago\, Chicago (USA))
DTSTART:20090629T143000Z
DTEND:20090629T153000Z
UID:TALK18941@talks.cam.ac.uk
CONTACT:Cath Tinley
DESCRIPTION:Abstract not available
LOCATION:Part II room\,  Department of Genetics
END:VEVENT
END:VCALENDAR
