BEGIN:VCALENDAR
VERSION:2.0
PRODID:-//Talks.cam//talks.cam.ac.uk//
X-WR-CALNAME:Talks.cam
BEGIN:VEVENT
SUMMARY:Mate choice\, colouration and immunocompetence in the ostrich - Pr
 of. Michael Cherry\, University of Stellenbosch
DTSTART:20091124T170000Z
DTEND:20091124T180000Z
UID:TALK19120@talks.cam.ac.uk
CONTACT:Dr. Camilla A. Hinde
DESCRIPTION:Abstract not available
LOCATION:Part II Lecture Theatre\, Department of Zoology
END:VEVENT
END:VCALENDAR
