BEGIN:VCALENDAR
VERSION:2.0
PRODID:-//Talks.cam//talks.cam.ac.uk//
X-WR-CALNAME:Talks.cam
BEGIN:VEVENT
SUMMARY:Factors influencing the acquisition of CD8+ T cell effector functi
 on - Alice Denton\, Department of Microbiology and Immunology\, The Univer
 sity of Melbourne
DTSTART:20090729T120000Z
DTEND:20090729T130000Z
UID:TALK19125@talks.cam.ac.uk
CONTACT:Sven Brode
DESCRIPTION:*Alice Denton* is based in Prof. Peter Doherty's laboratory at
  The University of Melbourne\, Australia. 
LOCATION:Sackler lecture theatre level 7\, Cambridge Insititute for Medica
 l Research
END:VEVENT
END:VCALENDAR
