BEGIN:VCALENDAR
VERSION:2.0
PRODID:-//Talks.cam//talks.cam.ac.uk//
X-WR-CALNAME:Talks.cam
BEGIN:VEVENT
SUMMARY:Aggregated Security Monitoring in 10GB networks - Nathan Macrides 
 and Nick McKenzie - Security Engineering\, RBS
DTSTART:20091028T141500Z
DTEND:20091028T151500Z
UID:TALK19190@talks.cam.ac.uk
CONTACT:Mateja Jamnik
DESCRIPTION:The use of aggregation switch technology to perform 'out-of-ba
 nd' network security monitoring (forensics\, data leakage\, intrusion dete
 ction) in high volume distributed network infrastructure.\n\nShort bio: Na
 than Macrides\n\nNathan graduated from RMIT University in Melbourne\, Aust
 ralia\, with Degrees in Computer Science (B App Sci) and Computer Systems 
 Engineering (B Eng) in 2003. Since then\, he has been employed in IT as a 
 Solutions Engineer with a focus on Security. He has worked fro various org
 anisation including the European Bank for Reconstruction and Development a
 nd BAA and currently works within the Global Banking & Markets Division of
  RBS.\n \nShort bio: Nick McKenzie\n\nNick graduated from Curtin Universit
 y of Technology in Perth\, Australia\, wit a Bachelor of Commerce (Informa
 tion Systems) (BCom (IS)) and a Master of E-Commerce (MeCom). He has since
  been employed by various consulting and financial institutions in Austral
 ia and the UK  focusing on security assessments\, design and architecture 
 reviews. He is currently Head of Security Architecture and Engineering and
  IS&C Project Support for RBS Global Banking & Markets. \n
LOCATION:Lecture Theatre 1\, Computer Laboratory
END:VEVENT
END:VCALENDAR
