BEGIN:VCALENDAR
VERSION:2.0
PRODID:-//Talks.cam//talks.cam.ac.uk//
X-WR-CALNAME:Talks.cam
BEGIN:VEVENT
SUMMARY:Discrete Time Series Segmentation with Bayesian Context Trees - Va
 li Lungu (University of Cambridge)
DTSTART:20221123T144500Z
DTEND:20221123T150000Z
UID:TALK193130@talks.cam.ac.uk
DESCRIPTION:
LOCATION:Seminar Room 1\, Newton Institute
END:VEVENT
END:VCALENDAR
