BEGIN:VCALENDAR
VERSION:2.0
PRODID:-//Talks.cam//talks.cam.ac.uk//
X-WR-CALNAME:Talks.cam
BEGIN:VEVENT
SUMMARY:Recent advances in the area of asymmetric hydrogenation - Professo
 r Xumu Zhang\, Rutgers University\, USA
DTSTART:20090803T160000Z
DTEND:20090803T170000Z
UID:TALK19334@talks.cam.ac.uk
CONTACT:Jane Snaith
DESCRIPTION:http://rutchem.rutgers.edu/content_dynamic/faculty/xumu_zhang.
 shtml
LOCATION:Pfizer Lecture Theatre\,  Department of Chemistry
END:VEVENT
END:VCALENDAR
