BEGIN:VCALENDAR
VERSION:2.0
PRODID:-//Talks.cam//talks.cam.ac.uk//
X-WR-CALNAME:Talks.cam
BEGIN:VEVENT
SUMMARY:PDEs with Uncertain Inputs: Basics - Catherine Powell (University 
 of Manchester)
DTSTART:20230710T133000Z
DTEND:20230710T143000Z
UID:TALK193885@talks.cam.ac.uk
DESCRIPTION:
LOCATION:Seminar Room 1\, Newton Institute
END:VEVENT
END:VCALENDAR
