BEGIN:VCALENDAR
VERSION:2.0
PRODID:-//Talks.cam//talks.cam.ac.uk//
X-WR-CALNAME:Talks.cam
BEGIN:VEVENT
SUMMARY:TBA - Elia Benito-Gutierrez\, Department of Zoology
DTSTART:20230210T131500Z
DTEND:20230210T140000Z
UID:TALK195178@talks.cam.ac.uk
CONTACT:Theresa Gross-Thebing
DESCRIPTION:Abstract not available
LOCATION:Biffen Theater- Please subscribe to mailing list for link
END:VEVENT
END:VCALENDAR
