BEGIN:VCALENDAR
VERSION:2.0
PRODID:-//Talks.cam//talks.cam.ac.uk//
X-WR-CALNAME:Talks.cam
BEGIN:VEVENT
SUMMARY:Putting Sylvia in her place: Ashton-Warner and progressive educati
 on in New Zealand\, 1928-1958 - Professor Sue Middleton - University of Wa
 ikato\, New Zealand
DTSTART:20091014T110000Z
DTEND:20091014T130000Z
UID:TALK19538@talks.cam.ac.uk
CONTACT:Susannah Lacon
DESCRIPTION:Sylvia Ashton-Warner's New Zealand educational context has bee
 n – and continues to be – misrepresented as antithetical to her creati
 ve methods. This paper locates Sylvia's educational ideas within the natio
 nal and international Progressive Education movement\, indicating that key
  education officials in post-war New Zealand encouraged creativity and sel
 f-expression.
LOCATION: Faculty of Education\, 184 Hills Road\, Cambridge\, CB2 8PQ
END:VEVENT
END:VCALENDAR
