BEGIN:VCALENDAR
VERSION:2.0
PRODID:-//Talks.cam//talks.cam.ac.uk//
X-WR-CALNAME:Talks.cam
BEGIN:VEVENT
SUMMARY:LUNCH - Hinxton Hall Restaurant
DTSTART:20090921T114000Z
DTEND:20090921T125000Z
UID:TALK19549@talks.cam.ac.uk
CONTACT:Dominic Clark
DESCRIPTION:Abstract not available
LOCATION:WTCC\, Hinxton\, UK
END:VEVENT
END:VCALENDAR
