BEGIN:VCALENDAR
VERSION:2.0
PRODID:-//Talks.cam//talks.cam.ac.uk//
X-WR-CALNAME:Talks.cam
BEGIN:VEVENT
SUMMARY:Image Analysis Tools - Dr Jerome Boulanger
DTSTART:20230202T093000Z
DTEND:20230202T103000Z
UID:TALK196558@talks.cam.ac.uk
CONTACT:Dr Christopher M Johnson
DESCRIPTION:Abstract not available
LOCATION:LMB\, Max Perutz Lecture Theatre  
END:VEVENT
END:VCALENDAR
