BEGIN:VCALENDAR
VERSION:2.0
PRODID:-//Talks.cam//talks.cam.ac.uk//
X-WR-CALNAME:Talks.cam
BEGIN:VEVENT
SUMMARY:Axonopathy - Dr Paul Glynn\, MRC Toxicology Unit\, Leicester
DTSTART:20091028T120000Z
DTEND:20091028T130000Z
UID:TALK19658@talks.cam.ac.uk
CONTACT:Elaine Garrod
DESCRIPTION:Abstract not available
LOCATION:Brain Repair Centre\, Forvie Site\, Robinson Way
END:VEVENT
END:VCALENDAR
