BEGIN:VCALENDAR
VERSION:2.0
PRODID:-//Talks.cam//talks.cam.ac.uk//
X-WR-CALNAME:Talks.cam
BEGIN:VEVENT
SUMMARY:Mechanisms underlying embryonic and adult DRG regeneration - Dr La
 ura Gumy\, BRC
DTSTART:20091125T120000Z
DTEND:20091125T130000Z
UID:TALK19660@talks.cam.ac.uk
CONTACT:Elaine Garrod
DESCRIPTION:Abstract not available
LOCATION:Brain Repair Centre\, Forvie Site\, Robinson Way
END:VEVENT
END:VCALENDAR
