BEGIN:VCALENDAR
VERSION:2.0
PRODID:-//Talks.cam//talks.cam.ac.uk//
X-WR-CALNAME:Talks.cam
BEGIN:VEVENT
SUMMARY:Large-scale structure modelling in light of upcoming galaxy survey
 s - Zvonimir Vlah (KICC)
DTSTART:20230327T120000Z
DTEND:20230327T130000Z
UID:TALK197545@talks.cam.ac.uk
CONTACT:Inigo Zubeldia
DESCRIPTION:I will give a brief overview of the perturbative construction 
 of galaxy number density and shape statistics on a large cosmological scal
 e. I will present recent results from the application of such models to ga
 laxy clustering and the intrinsic alignment of galaxies. The latter are cu
 rrently considered one of the most important contaminants in weak gravitat
 ional lensing\; however\, they are also promising cosmological probes in t
 heir own right.
LOCATION:CMS\, Pav. B\, CTC Common Room (B1.19) [Potter Room]
END:VEVENT
END:VCALENDAR
