BEGIN:VCALENDAR
VERSION:2.0
PRODID:-//Talks.cam//talks.cam.ac.uk//
X-WR-CALNAME:Talks.cam
BEGIN:VEVENT
SUMMARY:Anorexia nervosa associated hyperactivity and the brain reward sys
 tem - Speaker to be confirmed
DTSTART:20091105T164500Z
DTEND:20091105T174500Z
UID:TALK19832@talks.cam.ac.uk
CONTACT:Victoria Bonnici
DESCRIPTION:Abstract not available
LOCATION:Seminar Rooms\, Metabolic Research Labs\, Level 4\, Institute of 
 Metabolic Science
END:VEVENT
END:VCALENDAR
