BEGIN:VCALENDAR
VERSION:2.0
PRODID:-//Talks.cam//talks.cam.ac.uk//
X-WR-CALNAME:Talks.cam
BEGIN:VEVENT
SUMMARY:Genetics of type 2 diabetes: genome wide association studies and b
 eyond - Professor Philippe Froguel\, Imperial College\, London
DTSTART:20091126T164500Z
DTEND:20091126T174500Z
UID:TALK19835@talks.cam.ac.uk
CONTACT:Victoria Bonnici
DESCRIPTION:Abstract not available
LOCATION:Seminar Rooms\, Metabolic Research Labs\, Level 4\, Institute of 
 Metabolic Science
END:VEVENT
END:VCALENDAR
