BEGIN:VCALENDAR
VERSION:2.0
PRODID:-//Talks.cam//talks.cam.ac.uk//
X-WR-CALNAME:Talks.cam
BEGIN:VEVENT
SUMMARY:The World Avatar project – a Universal All-Encompassing Digital 
 Twin - Markus Kraft (University of Cambridge)
DTSTART:20230607T134500Z
DTEND:20230607T143000Z
UID:TALK198805@talks.cam.ac.uk
DESCRIPTION:
LOCATION:Seminar Room 1\, Newton Institute
END:VEVENT
END:VCALENDAR
