BEGIN:VCALENDAR
VERSION:2.0
PRODID:-//Talks.cam//talks.cam.ac.uk//
X-WR-CALNAME:Talks.cam
BEGIN:VEVENT
SUMMARY:Invisibility of Defects in Chiral and Mirror Symmetric Acoustic Ne
 tworks - Vincent Pagneux (Université du Maine)
DTSTART:20230523T095000Z
DTEND:20230523T103500Z
UID:TALK198865@talks.cam.ac.uk
DESCRIPTION:Network waveguides with mirror and chiral symmetry are conside
 red: it is shown that\, in these systems\, scattering is very particular i
 n the sense that defects respecting the symmetries are invisible (perfect 
 transmission with no phase delay) at zero pseudo-energy. An application to
  acoustic waveguides is presented\, where the pseudo-energy is directly li
 nked to the wave frequency.
LOCATION:Seminar Room 1\, Newton Institute
END:VEVENT
END:VCALENDAR
